BEGIN:VCALENDAR
VERSION:2.0
PRODID:-//Sailing Yacht Betty - ECPv6.15.13.1//NONSGML v1.0//EN
CALSCALE:GREGORIAN
METHOD:PUBLISH
X-WR-CALNAME:Sailing Yacht Betty
X-ORIGINAL-URL:https://sy-betty.de
X-WR-CALDESC:Veranstaltungen für Sailing Yacht Betty
REFRESH-INTERVAL;VALUE=DURATION:PT1H
X-Robots-Tag:noindex
X-PUBLISHED-TTL:PT1H
BEGIN:VTIMEZONE
TZID:Europe/Berlin
BEGIN:DAYLIGHT
TZOFFSETFROM:+0100
TZOFFSETTO:+0200
TZNAME:CEST
DTSTART:20250330T010000
END:DAYLIGHT
BEGIN:STANDARD
TZOFFSETFROM:+0200
TZOFFSETTO:+0100
TZNAME:CET
DTSTART:20251026T010000
END:STANDARD
BEGIN:DAYLIGHT
TZOFFSETFROM:+0100
TZOFFSETTO:+0200
TZNAME:CEST
DTSTART:20260329T010000
END:DAYLIGHT
BEGIN:STANDARD
TZOFFSETFROM:+0200
TZOFFSETTO:+0100
TZNAME:CET
DTSTART:20261025T010000
END:STANDARD
BEGIN:DAYLIGHT
TZOFFSETFROM:+0100
TZOFFSETTO:+0200
TZNAME:CEST
DTSTART:20270328T010000
END:DAYLIGHT
BEGIN:STANDARD
TZOFFSETFROM:+0200
TZOFFSETTO:+0100
TZNAME:CET
DTSTART:20271031T010000
END:STANDARD
END:VTIMEZONE
BEGIN:VEVENT
DTSTART;TZID=Europe/Berlin:20260610T000000
DTEND;TZID=Europe/Berlin:20260617T235959
DTSTAMP:20260420T155000
CREATED:20260109T133917Z
LAST-MODIFIED:20260109T133941Z
UID:2841-1781049600-1781740799@sy-betty.de
SUMMARY:Familienbesuch aus "Tyrol"
DESCRIPTION:Da es im letzten Jahr so schön war\, kommen Marlene mit Andi und den Enkelzwergen auch in diesem Jahr zum Familienurlaub nach Portoroz.
URL:https://sy-betty.de/termin/familienbesuch-aus-tyrol
CATEGORIES:Adria
ATTACH;FMTTYPE=image/jpeg:https://sy-betty.de/wp-content/uploads/2026/01/e7bc9d8a-6c94-4076-86f5-942d0f85ccef.jpeg
END:VEVENT
END:VCALENDAR