BEGIN:VCALENDAR
VERSION:2.0
PRODID:-//Sailing Yacht Betty - ECPv6.15.13.1//NONSGML v1.0//EN
CALSCALE:GREGORIAN
METHOD:PUBLISH
X-WR-CALNAME:Sailing Yacht Betty
X-ORIGINAL-URL:https://sy-betty.de
X-WR-CALDESC:Veranstaltungen für Sailing Yacht Betty
REFRESH-INTERVAL;VALUE=DURATION:PT1H
X-Robots-Tag:noindex
X-PUBLISHED-TTL:PT1H
BEGIN:VTIMEZONE
TZID:Europe/Berlin
BEGIN:DAYLIGHT
TZOFFSETFROM:+0100
TZOFFSETTO:+0200
TZNAME:CEST
DTSTART:20240331T010000
END:DAYLIGHT
BEGIN:STANDARD
TZOFFSETFROM:+0200
TZOFFSETTO:+0100
TZNAME:CET
DTSTART:20241027T010000
END:STANDARD
BEGIN:DAYLIGHT
TZOFFSETFROM:+0100
TZOFFSETTO:+0200
TZNAME:CEST
DTSTART:20250330T010000
END:DAYLIGHT
BEGIN:STANDARD
TZOFFSETFROM:+0200
TZOFFSETTO:+0100
TZNAME:CET
DTSTART:20251026T010000
END:STANDARD
BEGIN:DAYLIGHT
TZOFFSETFROM:+0100
TZOFFSETTO:+0200
TZNAME:CEST
DTSTART:20260329T010000
END:DAYLIGHT
BEGIN:STANDARD
TZOFFSETFROM:+0200
TZOFFSETTO:+0100
TZNAME:CET
DTSTART:20261025T010000
END:STANDARD
END:VTIMEZONE
BEGIN:VEVENT
DTSTART;TZID=Europe/Berlin:20251012T000000
DTEND;TZID=Europe/Berlin:20251012T235959
DTSTAMP:20260422T222242
CREATED:20250109T192908Z
LAST-MODIFIED:20250109T193403Z
UID:2142-1760227200-1760313599@sy-betty.de
SUMMARY:Barcolana 57 Regatta\, Trieste
DESCRIPTION:Auch in 2025 möchte die berühmte Barcolana Regatta vor Triest mitsegeln. Es ist die größte Regatta der Welt. Hoffentlich sind Frank und Peter wieder dabei. \n\n\n\nWie schon in 2024 werden wir im Morgengrauen in Richtung Triest aufbrechen. Nach der Regatta geht es von Triest gemütlich wieder zurück zum Ausgangspunkt in die Marina nach Portoroz. \n\n\n\nhttps://www.barcolana.it
URL:https://sy-betty.de/termin/barcolana-57
ATTACH;FMTTYPE=image/jpeg:https://sy-betty.de/wp-content/uploads/2024/10/b56df72e-fc58-42f4-8a7f-1d011f3077d8.jpeg
END:VEVENT
END:VCALENDAR