BEGIN:VCALENDAR
VERSION:2.0
PRODID:-//Sailing Yacht Betty - ECPv6.15.13.1//NONSGML v1.0//EN
CALSCALE:GREGORIAN
METHOD:PUBLISH
X-ORIGINAL-URL:https://sy-betty.de
X-WR-CALDESC:Veranstaltungen für Sailing Yacht Betty
REFRESH-INTERVAL;VALUE=DURATION:PT1H
X-Robots-Tag:noindex
X-PUBLISHED-TTL:PT1H
BEGIN:VTIMEZONE
TZID:Europe/Berlin
BEGIN:DAYLIGHT
TZOFFSETFROM:+0100
TZOFFSETTO:+0200
TZNAME:CEST
DTSTART:20240331T010000
END:DAYLIGHT
BEGIN:STANDARD
TZOFFSETFROM:+0200
TZOFFSETTO:+0100
TZNAME:CET
DTSTART:20241027T010000
END:STANDARD
BEGIN:DAYLIGHT
TZOFFSETFROM:+0100
TZOFFSETTO:+0200
TZNAME:CEST
DTSTART:20250330T010000
END:DAYLIGHT
BEGIN:STANDARD
TZOFFSETFROM:+0200
TZOFFSETTO:+0100
TZNAME:CET
DTSTART:20251026T010000
END:STANDARD
BEGIN:DAYLIGHT
TZOFFSETFROM:+0100
TZOFFSETTO:+0200
TZNAME:CEST
DTSTART:20260329T010000
END:DAYLIGHT
BEGIN:STANDARD
TZOFFSETFROM:+0200
TZOFFSETTO:+0100
TZNAME:CET
DTSTART:20261025T010000
END:STANDARD
END:VTIMEZONE
BEGIN:VEVENT
DTSTART;TZID=Europe/Berlin:20250725T000000
DTEND;TZID=Europe/Berlin:20250805T235959
DTSTAMP:20260423T034955
CREATED:20250109T210720Z
LAST-MODIFIED:20250109T210907Z
UID:2163-1753401600-1754438399@sy-betty.de
SUMMARY:Chili Peng Sailing 2025
DESCRIPTION:Der jährliche Segeltörn findet dieses Jahr ohne Gäste statt. Sabine und ich wollen uns einige Tage alleine in der kroatischen Inselwelt vergnügen und dort einige schöne Ankerplätze ausprobieren.
URL:https://sy-betty.de/termin/chili-peng-sailing-2025
ATTACH;FMTTYPE=image/jpeg:https://sy-betty.de/wp-content/uploads/2024/08/4979af96-efc2-42ef-8cf4-426285242591.jpeg
END:VEVENT
END:VCALENDAR