BEGIN:VCALENDAR
VERSION:2.0
PRODID:-//Sailing Yacht Betty - ECPv6.15.13.1//NONSGML v1.0//EN
CALSCALE:GREGORIAN
METHOD:PUBLISH
X-WR-CALNAME:Sailing Yacht Betty
X-ORIGINAL-URL:https://sy-betty.de
X-WR-CALDESC:Veranstaltungen für Sailing Yacht Betty
REFRESH-INTERVAL;VALUE=DURATION:PT1H
X-Robots-Tag:noindex
X-PUBLISHED-TTL:PT1H
BEGIN:VTIMEZONE
TZID:Europe/Berlin
BEGIN:DAYLIGHT
TZOFFSETFROM:+0100
TZOFFSETTO:+0200
TZNAME:CEST
DTSTART:20240331T010000
END:DAYLIGHT
BEGIN:STANDARD
TZOFFSETFROM:+0200
TZOFFSETTO:+0100
TZNAME:CET
DTSTART:20241027T010000
END:STANDARD
BEGIN:DAYLIGHT
TZOFFSETFROM:+0100
TZOFFSETTO:+0200
TZNAME:CEST
DTSTART:20250330T010000
END:DAYLIGHT
BEGIN:STANDARD
TZOFFSETFROM:+0200
TZOFFSETTO:+0100
TZNAME:CET
DTSTART:20251026T010000
END:STANDARD
BEGIN:DAYLIGHT
TZOFFSETFROM:+0100
TZOFFSETTO:+0200
TZNAME:CEST
DTSTART:20260329T010000
END:DAYLIGHT
BEGIN:STANDARD
TZOFFSETFROM:+0200
TZOFFSETTO:+0100
TZNAME:CET
DTSTART:20261025T010000
END:STANDARD
END:VTIMEZONE
BEGIN:VEVENT
DTSTART;TZID=Europe/Berlin:20250524T000000
DTEND;TZID=Europe/Berlin:20250531T235959
DTSTAMP:20260423T073221
CREATED:20250109T200820Z
LAST-MODIFIED:20250116T175033Z
UID:2155-1748044800-1748735999@sy-betty.de
SUMMARY:Familienbesuch aus Tyrol(sberg)
DESCRIPTION:Meine Tochter mit Familie machen ein paar Tage Bau-Pause und kommen zum Familienurlaub nach Portoroz. Im letzten Jahr zu meinem 60. war Marlene wegen Familienzuwachs verhindert und konnte nicht mit uns feiern. Das holen wir nach.
URL:https://sy-betty.de/termin/die-baumanns-kommen
ATTACH;FMTTYPE=image/jpeg:https://sy-betty.de/wp-content/uploads/2025/01/55C030BF-FBBF-4BF9-99CD-AD0ED9E5A55E-scaled-e1736453468889.jpeg
END:VEVENT
END:VCALENDAR