BEGIN:VCALENDAR
VERSION:2.0
PRODID:-//Sailing Yacht Betty - ECPv6.15.13.1//NONSGML v1.0//EN
CALSCALE:GREGORIAN
METHOD:PUBLISH
X-ORIGINAL-URL:https://sy-betty.de
X-WR-CALDESC:Veranstaltungen für Sailing Yacht Betty
REFRESH-INTERVAL;VALUE=DURATION:PT1H
X-Robots-Tag:noindex
X-PUBLISHED-TTL:PT1H
BEGIN:VTIMEZONE
TZID:Europe/Berlin
BEGIN:DAYLIGHT
TZOFFSETFROM:+0100
TZOFFSETTO:+0200
TZNAME:CEST
DTSTART:20240331T010000
END:DAYLIGHT
BEGIN:STANDARD
TZOFFSETFROM:+0200
TZOFFSETTO:+0100
TZNAME:CET
DTSTART:20241027T010000
END:STANDARD
BEGIN:DAYLIGHT
TZOFFSETFROM:+0100
TZOFFSETTO:+0200
TZNAME:CEST
DTSTART:20250330T010000
END:DAYLIGHT
BEGIN:STANDARD
TZOFFSETFROM:+0200
TZOFFSETTO:+0100
TZNAME:CET
DTSTART:20251026T010000
END:STANDARD
BEGIN:DAYLIGHT
TZOFFSETFROM:+0100
TZOFFSETTO:+0200
TZNAME:CEST
DTSTART:20260329T010000
END:DAYLIGHT
BEGIN:STANDARD
TZOFFSETFROM:+0200
TZOFFSETTO:+0100
TZNAME:CET
DTSTART:20261025T010000
END:STANDARD
END:VTIMEZONE
BEGIN:VEVENT
DTSTART;TZID=Europe/Berlin:20250331T000000
DTEND;TZID=Europe/Berlin:20250406T235959
DTSTAMP:20260423T110400
CREATED:20250109T194609Z
LAST-MODIFIED:20250109T194615Z
UID:2147-1743379200-1743983999@sy-betty.de
SUMMARY:Antifouling Workout
DESCRIPTION:Am 31. März wird Betty ausgekrant und für ein paar Tage an Land abgestellt. Ich will das Antifouling prüfen und auffrischen\, sowie den Rumpf polieren.  \n\n\n\nTatsächlich erwarte ich keine große Baustelle. Als Betty im Oktober wegen einer Reparatur an der Logge kurz am Haken hing\, sag das Unterwasserschiff noch recht ordentlich aus.
URL:https://sy-betty.de/termin/antifouling-workout
ATTACH;FMTTYPE=image/jpeg:https://sy-betty.de/wp-content/uploads/2024/09/IMG_5747-scaled.jpeg
END:VEVENT
END:VCALENDAR