BEGIN:VCALENDAR
VERSION:2.0
PRODID:-//Sailing Yacht Betty - ECPv6.15.13.1//NONSGML v1.0//EN
CALSCALE:GREGORIAN
METHOD:PUBLISH
X-WR-CALNAME:Sailing Yacht Betty
X-ORIGINAL-URL:https://sy-betty.de
X-WR-CALDESC:Veranstaltungen für Sailing Yacht Betty
REFRESH-INTERVAL;VALUE=DURATION:PT1H
X-Robots-Tag:noindex
X-PUBLISHED-TTL:PT1H
BEGIN:VTIMEZONE
TZID:Europe/Berlin
BEGIN:DAYLIGHT
TZOFFSETFROM:+0100
TZOFFSETTO:+0200
TZNAME:CEST
DTSTART:20230326T010000
END:DAYLIGHT
BEGIN:STANDARD
TZOFFSETFROM:+0200
TZOFFSETTO:+0100
TZNAME:CET
DTSTART:20231029T010000
END:STANDARD
BEGIN:DAYLIGHT
TZOFFSETFROM:+0100
TZOFFSETTO:+0200
TZNAME:CEST
DTSTART:20240331T010000
END:DAYLIGHT
BEGIN:STANDARD
TZOFFSETFROM:+0200
TZOFFSETTO:+0100
TZNAME:CET
DTSTART:20241027T010000
END:STANDARD
BEGIN:DAYLIGHT
TZOFFSETFROM:+0100
TZOFFSETTO:+0200
TZNAME:CEST
DTSTART:20250330T010000
END:DAYLIGHT
BEGIN:STANDARD
TZOFFSETFROM:+0200
TZOFFSETTO:+0100
TZNAME:CET
DTSTART:20251026T010000
END:STANDARD
END:VTIMEZONE
BEGIN:VEVENT
DTSTART;TZID=Europe/Berlin:20241011T000000
DTEND;TZID=Europe/Berlin:20241013T235959
DTSTAMP:20260425T173929
CREATED:20231103T130734Z
LAST-MODIFIED:20240715T174927Z
UID:1569-1728604800-1728863999@sy-betty.de
SUMMARY:Barcolana 56 Regatta\, Trieste
DESCRIPTION:Ich möchte die berühmte Barcolana Regatta vor Triest mitsegeln. Es ist die größte Regatta der Welt. Seit ein paar Tagen bin ich als Skipper mit Betty bereits als Early Bird (oder besser Early Duck) angemeldet. \n\n\n\nSicherlich werde ich schon ein paar Tage zuvor zu Betty fahren und die nötigen Vorbereitungen treffen. \n\n\n\nIch bin noch unschlüssig\, ob wir schon am 11. Oktober nach Triest fahren oder ob wir von Slowenien kommend am 12. Oktober eine zusätzliche Regatta von Isola nach Triest mitsegeln. Diese Regatta ist speziell für die Segler aus Richtungen der östlichen Adriatischen Küste. \n\n\n\nIn der Bucht von Triest findet dann am 13. Oktober ab 10:30 Uhr die Barcolana 56 statt. Die Startlinie wird sich zwischen Barcola und Miramare befinden und das Rennen umfasst 13 Seemeilen. Die Ziellinie ist am Porto Vecchio Dam beim Piazza Unità d’Italia. \n\n\n\nNach der Regatta geht es von Triest gemütlich wieder zurück zum Ausgangspunkt in die Marina nach Portoroz. \n\n\n\nhttps://www.barcolana.it
URL:https://sy-betty.de/termin/barcolana-regatta-trieste
CATEGORIES:Adria
END:VEVENT
END:VCALENDAR