BEGIN:VCALENDAR
VERSION:2.0
PRODID:-//Sailing Yacht Betty - ECPv6.15.13.1//NONSGML v1.0//EN
CALSCALE:GREGORIAN
METHOD:PUBLISH
X-WR-CALNAME:Sailing Yacht Betty
X-ORIGINAL-URL:https://sy-betty.de
X-WR-CALDESC:Veranstaltungen für Sailing Yacht Betty
REFRESH-INTERVAL;VALUE=DURATION:PT1H
X-Robots-Tag:noindex
X-PUBLISHED-TTL:PT1H
BEGIN:VTIMEZONE
TZID:Europe/Berlin
BEGIN:DAYLIGHT
TZOFFSETFROM:+0100
TZOFFSETTO:+0200
TZNAME:CEST
DTSTART:20230326T010000
END:DAYLIGHT
BEGIN:STANDARD
TZOFFSETFROM:+0200
TZOFFSETTO:+0100
TZNAME:CET
DTSTART:20231029T010000
END:STANDARD
BEGIN:DAYLIGHT
TZOFFSETFROM:+0100
TZOFFSETTO:+0200
TZNAME:CEST
DTSTART:20240331T010000
END:DAYLIGHT
BEGIN:STANDARD
TZOFFSETFROM:+0200
TZOFFSETTO:+0100
TZNAME:CET
DTSTART:20241027T010000
END:STANDARD
BEGIN:DAYLIGHT
TZOFFSETFROM:+0100
TZOFFSETTO:+0200
TZNAME:CEST
DTSTART:20250330T010000
END:DAYLIGHT
BEGIN:STANDARD
TZOFFSETFROM:+0200
TZOFFSETTO:+0100
TZNAME:CET
DTSTART:20251026T010000
END:STANDARD
END:VTIMEZONE
BEGIN:VEVENT
DTSTART;TZID=Europe/Berlin:20240803T000000
DTEND;TZID=Europe/Berlin:20240819T235959
DTSTAMP:20260425T210938
CREATED:20231102T162249Z
LAST-MODIFIED:20231102T162250Z
UID:785-1722643200-1724111999@sy-betty.de
SUMMARY:Chili Peng Sailing 2024 mit Sabine\, Astrid & Uwe
DESCRIPTION:Schon traditionell ist auch in 2024 wieder ein Chili Peng Törn geplant. Zuerst werden uns Astrid und Uwe in Portorož besuchen und uns einige Tage begleiten. Einige schöne Ankerbuchten konnte ich ja in 2023 schon ausmachen. Danach werden Sabine und ich noch ein paar Tage in Zweisamkeit auf See verbringen. \n\n\n\nMal sehen\, ob diesmal die Zeit für einen stressfreien Sprung von Istrien nach Susak und Losinj gelingt.
URL:https://sy-betty.de/termin/inspektion-des-gebiets-um-portoroz-mit-sabine
CATEGORIES:Adria
END:VEVENT
END:VCALENDAR